BEGIN:VCALENDAR
VERSION:2.0
PRODID:-//Rachael L. McIntosh - ECPv6.15.3//NONSGML v1.0//EN
CALSCALE:GREGORIAN
METHOD:PUBLISH
X-WR-CALNAME:Rachael L. McIntosh
X-ORIGINAL-URL:https://rachaellmcintosh.com
X-WR-CALDESC:Events for Rachael L. McIntosh
REFRESH-INTERVAL;VALUE=DURATION:PT1H
X-Robots-Tag:noindex
X-PUBLISHED-TTL:PT1H
BEGIN:VTIMEZONE
TZID:America/New_York
BEGIN:DAYLIGHT
TZOFFSETFROM:-0500
TZOFFSETTO:-0400
TZNAME:EDT
DTSTART:20140309T070000
END:DAYLIGHT
BEGIN:STANDARD
TZOFFSETFROM:-0400
TZOFFSETTO:-0500
TZNAME:EST
DTSTART:20141102T060000
END:STANDARD
BEGIN:DAYLIGHT
TZOFFSETFROM:-0500
TZOFFSETTO:-0400
TZNAME:EDT
DTSTART:20150308T070000
END:DAYLIGHT
BEGIN:STANDARD
TZOFFSETFROM:-0400
TZOFFSETTO:-0500
TZNAME:EST
DTSTART:20151101T060000
END:STANDARD
END:VTIMEZONE
BEGIN:VEVENT
DTSTART;TZID=America/New_York:20150811T193000
DTEND;TZID=America/New_York:20150811T203000
DTSTAMP:20260423T151607
CREATED:20150624T231723Z
LAST-MODIFIED:20150624T231723Z
UID:824-1439321400-1439325000@rachaellmcintosh.com
SUMMARY:Reading at the Republican Liberty Caucus of Rhode Island
DESCRIPTION:August 11\, 2015 7:30 Republican Liberty Caucus of Rhode Island. The Village Restaurant\, 373 Richmond St.\, Providence\, RI.  I will read and speak about the Security Through Absurdity Series after their 7:00 meeting
URL:https://rachaellmcintosh.com/event/reading-at-the-republican-liberty-caucus-of-rhode-island/
LOCATION:The Village Restaurant\, 373 Richmond St.\, Providence\, United States
END:VEVENT
BEGIN:VEVENT
DTSTART;TZID=America/New_York:20150804T153000
DTEND;TZID=America/New_York:20150804T160000
DTSTAMP:20260423T151607
CREATED:20150804T140942Z
LAST-MODIFIED:20150804T140942Z
UID:888-1438702200-1438704000@rachaellmcintosh.com
SUMMARY:(((Radio Interview))) with JACK BLOOD
DESCRIPTION:Author\, Rachael L. McIntosh has been invited to appear on the JACK BLOOD SHOW – DEADLINELIVE to speak about her Security Through Absurdity series of Contemporary New Journalism novels. \nhttp://radiofreeblood.com/stream.php\nhttp://deadlinelive.info/\nhttps://www.facebook.com/pages/Jack-Blood/64136769322
URL:https://rachaellmcintosh.com/event/radio-interview-with-jack-blood/
LOCATION:Philips Arena\, 1CNN Center\, Atlanta \, GA\, United States
END:VEVENT
BEGIN:VEVENT
DTSTART;TZID=America/New_York:20150730T170000
DTEND;TZID=America/New_York:20150730T190000
DTSTAMP:20260423T151607
CREATED:20150624T230748Z
LAST-MODIFIED:20150624T231130Z
UID:822-1438275600-1438282800@rachaellmcintosh.com
SUMMARY:PRIVATE bookclub
DESCRIPTION:July 30\, 2015 PRIVATE bookclub appearance – I have been asked to speak with a book club comprised of Naval Undersea Warfare Center (NUWC) employees.  https://en.wikipedia.org/wiki/Naval_Undersea_Warfare_Center  Once you read Little Yellow Stickies\, you’ll know why.  :-)
URL:https://rachaellmcintosh.com/event/private-bookclub/
LOCATION:RI
END:VEVENT
BEGIN:VEVENT
DTSTART;TZID=America/New_York:20150729T160000
DTEND;TZID=America/New_York:20150729T190000
DTSTAMP:20260423T151607
CREATED:20150413T130245Z
LAST-MODIFIED:20150413T130245Z
UID:791-1438185600-1438196400@rachaellmcintosh.com
SUMMARY:New England Author's Expo\, Danvers MA
DESCRIPTION:NEW ENGLAND AUTHOR’S EXPO a huge gathering of authors\, publishers\, and illustrators gathering at Danversport Yacht Club. SECURITY THROUGH ABSURDITY series – Books One\, Two\, and Three will be on hand and for sale. For more information go to http://peartreepublishing.net/events/authorsexpo2015.php
URL:https://rachaellmcintosh.com/event/new-england-authors-expo-danvers-ma/
LOCATION:Danversport Yacht Club\, 161 Elliot Street\, Danvers\, MA\, 01923\, United States
END:VEVENT
BEGIN:VEVENT
DTSTART;TZID=America/New_York:20150726T203000
DTEND;TZID=America/New_York:20150726T213000
DTSTAMP:20260423T151607
CREATED:20150711T030224Z
LAST-MODIFIED:20150711T034108Z
UID:838-1437942600-1437946200@rachaellmcintosh.com
SUMMARY:The Punk Rock Libertarian (((interview)))
DESCRIPTION:Author Rachael L. McIntosh will be enjoying forty-five minutes of pure\, unadulterated\, book promotion disguised as an interviewed with The Punk Rock Libertarian\, Tony Jones  AND THEN she’ll be rolling into My Night Out Radio with Eddie Costabit on www.rifreeradio.org.   These recorded interviews\, about her Security Through Absurdity series\, will be re-broadcast throughout the week.
URL:https://rachaellmcintosh.com/event/the-punk-rock-libertarian-interview/
LOCATION:65 Manchester\, 65 Manchester Street \, West Warwick
END:VEVENT
BEGIN:VEVENT
DTSTART;TZID=America/New_York:20150723T090000
DTEND;TZID=America/New_York:20150723T094500
DTSTAMP:20260423T151607
CREATED:20150710T164545Z
LAST-MODIFIED:20150710T164545Z
UID:835-1437642000-1437644700@rachaellmcintosh.com
SUMMARY:THE POWER HOUR with Joyce Riley  (((radio interview)))
DESCRIPTION:I have been invited to appear on Genesis Communications Network’s THE POWER HOUR with Joyce Riley on Thursday\, July 23 at 9am US CENTRAL time.  I’ll be talking about SECURITY THROUGH ABSURDITY – specifically\, Book One: Little Yellow Stickies.\nhttp://www.thepowerhour.com/index.html \n\nWays to listen to The Power Hour:\nListen Live On GCN Live – Monday through Friday\, 7-10 AM CST\nor to the nightly replay Monday-Friday 9-12 PM CST.\nListen FREE thru Global Star Satellite Feed\nTalk Stream Live\nTexas Liberty Radio\nListen Line Number: 760-569-7704\nTO CALL THE SHOW LIVE 1-855-995-6923 (1-855-99-JOYCE)\nInternational Callers: 00+ 1+ 612-465-7370.
URL:https://rachaellmcintosh.com/event/the-power-hour-with-joyce-riley-radio-interview/
LOCATION:Genesis Communications Network\, United States
END:VEVENT
BEGIN:VEVENT
DTSTART;TZID=America/New_York:20150714T090000
DTEND;TZID=America/New_York:20150714T210000
DTSTAMP:20260423T151607
CREATED:20150712T012331Z
LAST-MODIFIED:20150712T012331Z
UID:841-1436864400-1436907600@rachaellmcintosh.com
SUMMARY:To Kill A Mocking Bird Read-a-thon
DESCRIPTION:Author of the Security Through Absurdity Series\, Rachael L. McIntosh\, will participate in a To Kill A Mocking Bird event at Barnes&Noble\, 371 Putnam Pike Smithfield\, RI 02917  From 9 a.m. to 9 p.m. local authors and volunteers will rotate in 30-minute intervals and read To Kill a Mockingbird from beginning to end. \nhttp://www.valleybreeze.com/2015-07-08/observer-smithfield-west/mockingbird-read-thon-monday-smithfield#.VaG8a0WR_cZ
URL:https://rachaellmcintosh.com/event/to-kill-a-mocking-bird-read-a-thon/
LOCATION:Barnes & Noble\, 371 Putnam Pike #330\, Smithfield\, RI\, Smithfield\, 02917\, United States
END:VEVENT
BEGIN:VEVENT
DTSTART;TZID=America/New_York:20150711T150000
DTEND;TZID=America/New_York:20150711T180000
DTSTAMP:20260423T151607
CREATED:20150624T230111Z
LAST-MODIFIED:20150624T230111Z
UID:816-1436626800-1436637600@rachaellmcintosh.com
SUMMARY:Hangout with the Author at Cafe Providence
DESCRIPTION:Come hangout with Rachael L. McIntosh as she reads from her books\, fields questions\, and drinks coffee at Cafe Providence\, 225 Weybosset St\, Providence\, RI 02903.  It’s right across the street from PPAC.  This event is FREE and open to the public. Books will be available for sale at the cafe. \n 
URL:https://rachaellmcintosh.com/event/hangout-with-the-author-at-cafe-providence/
LOCATION:Cafe Providence\, 225 Weybosset St\, Providence\, RI\, United States
END:VEVENT
BEGIN:VEVENT
DTSTART;TZID=America/New_York:20150627T130000
DTEND;TZID=America/New_York:20150627T150000
DTSTAMP:20260423T151607
CREATED:20150413T125959Z
LAST-MODIFIED:20150413T125959Z
UID:789-1435410000-1435417200@rachaellmcintosh.com
SUMMARY:Reading and Q&A Bank Square Books\, Mystic CT
DESCRIPTION:Reading from Little Yellow Stickies and / or Bubbles Will Pop. Q&A and\, of course signing copies. This is right down the street from the place that inspired Little Yellow Stickies. :-o
URL:https://rachaellmcintosh.com/event/reading-and-qa-bank-square-books-mystic-ct/
LOCATION:Bank Square Books\, 53 West Main Street\, Mystic\, CT\, 06355\, United States
END:VEVENT
BEGIN:VEVENT
DTSTART;TZID=America/New_York:20150613T120000
DTEND;TZID=America/New_York:20150613T180000
DTSTAMP:20260423T151607
CREATED:20150505T115208Z
LAST-MODIFIED:20150505T115208Z
UID:794-1434196800-1434218400@rachaellmcintosh.com
SUMMARY:ARIA Meet & Greet / Signing at Barnes & Noble
DESCRIPTION:Association of Rhode Island Authors (ARIA) Book Signing Event!  I have been given the opportunity to speak about the SECURITY THROUGH ABSURDITY series at this event.  It is also a great opportunity to meet and talk with local authors. Sixteen authors from the Association of Rhode Island Authors will be conducting a book signing of their individual books.
URL:https://rachaellmcintosh.com/event/aria-meet-greet-signing-at-barnes-noble/
LOCATION:Barnes & Noble\, 1311 West Main Road\, Middletown\, RI\, 02842\, United States
END:VEVENT
BEGIN:VEVENT
DTSTART;TZID=America/New_York:20150516T140000
DTEND;TZID=America/New_York:20150516T170000
DTSTAMP:20260423T151607
CREATED:20150413T125736Z
LAST-MODIFIED:20150413T125736Z
UID:787-1431784800-1431795600@rachaellmcintosh.com
SUMMARY:More CHAMPAGNE and CHOCOLATES - Reading and Q&A
DESCRIPTION:MORE CHAMPAGNE and CHOCOLATES as I read from Bubbles Will Pop\, answer questions\, and sign books.
URL:https://rachaellmcintosh.com/event/more-champagne-and-chocolates-reading-and-qa/
LOCATION:Symposium Books\, 1000 Division Street\, East Greenwich\, RI\, 02818\, United States
END:VEVENT
BEGIN:VEVENT
DTSTART;TZID=America/New_York:20150515T190000
DTEND;TZID=America/New_York:20150515T190000
DTSTAMP:20260423T151607
CREATED:20150413T125525Z
LAST-MODIFIED:20150413T125525Z
UID:785-1431716400-1431716400@rachaellmcintosh.com
SUMMARY:CHAMPAGNE and CHOCOLATES - Reading and Q&A
DESCRIPTION:CHAMPAGNE and CHOCOLATES as I read from Bubbles Will Pop\, answer questions\, and sign books.
URL:https://rachaellmcintosh.com/event/champagne-and-chocolates-reading-and-qa/
LOCATION:Books on the Square\, 471 Angell Street\, Providence\, RI\, 02906\, United States
END:VEVENT
BEGIN:VEVENT
DTSTART;TZID=America/New_York:20150411T090000
DTEND;TZID=America/New_York:20150411T150000
DTSTAMP:20260423T151607
CREATED:20150121T213048Z
LAST-MODIFIED:20150121T213430Z
UID:752-1428742800-1428764400@rachaellmcintosh.com
SUMMARY:Meet & Greet at Warwick Public Library
DESCRIPTION:At the Warwick Public Library\, Association of Rhode Island Authors will have a meet and greet with thirty local authors shaking hands and selling books!
URL:https://rachaellmcintosh.com/event/meet-greet-warwick-public-library/
LOCATION:Warwick Public Library\, 600 Sandy Lane\, Warwick\, RI\, 02889\, United States
END:VEVENT
BEGIN:VEVENT
DTSTART;TZID=America/New_York:20150321T130000
DTEND;TZID=America/New_York:20150321T150000
DTSTAMP:20260423T151607
CREATED:20150317T142549Z
LAST-MODIFIED:20150317T142549Z
UID:765-1426942800-1426950000@rachaellmcintosh.com
SUMMARY:Meet & Greet and Signing at Barnes & Noble Warwick
DESCRIPTION:Association of Rhode Island Authors Booksigning Event! A great opportunity to meet and talk with local authors. Twenty authors from the Association of Rhode Island Authors will be conducting a book signing for their individual books.
URL:https://rachaellmcintosh.com/event/meet-greet-and-signing-at-barnes-noble-warwick/
LOCATION:Barnes & Nobel Warwick\, 1350 Bald Hill Road\, Warwick\, RI\, 02886\, United States
END:VEVENT
BEGIN:VEVENT
DTSTART;TZID=America/New_York:20150218T203000
DTEND;TZID=America/New_York:20150218T213000
DTSTAMP:20260423T151607
CREATED:20150121T212758Z
LAST-MODIFIED:20150121T212758Z
UID:751-1424291400-1424295000@rachaellmcintosh.com
SUMMARY:The Rob and Slim Show Podcast Interview
DESCRIPTION:Listen to hear an interview with Rachael L McIntosh on The Rob and Slim Show. Subscribe and listen to the Podcast here: https://soundcloud.com/the-rs-show
URL:https://rachaellmcintosh.com/event/rob-slim-show-podcast-interview/
LOCATION:The Rob and Slim Show\, YouTube
END:VEVENT
BEGIN:VEVENT
DTSTART;TZID=America/New_York:20150129T183000
DTEND;TZID=America/New_York:20150129T193000
DTSTAMP:20260423T151607
CREATED:20150121T212600Z
LAST-MODIFIED:20150121T213435Z
UID:749-1422556200-1422559800@rachaellmcintosh.com
SUMMARY:Lively Litterati
DESCRIPTION:Rachael L McIntosh will  be reading from her latest release Bubbles Will Pop and answering questions about her books at Elephant Room in Cranston. Thursday\, January 19th at 6:30 PM
URL:https://rachaellmcintosh.com/event/lively-litterati/
LOCATION:Elephant Room\, 2170 Broad Street\, Cranston\, RI\, 02905\, United States
END:VEVENT
BEGIN:VEVENT
DTSTART;TZID=America/New_York:20150123T210000
DTEND;TZID=America/New_York:20150123T220000
DTSTAMP:20260423T151607
CREATED:20150121T212314Z
LAST-MODIFIED:20150121T212314Z
UID:747-1422046800-1422050400@rachaellmcintosh.com
SUMMARY:Friday Night Super Show! Rachael on NWO Truth Radio
DESCRIPTION:Join author Rachael L McIntosh on New World Order Wake Up Call. Friday 23\, January at 9:00 PM.
URL:https://rachaellmcintosh.com/event/friday-night-super-show-rachael-nwo-truth-radio/
LOCATION:New World Order Wake Up Call
END:VEVENT
BEGIN:VEVENT
DTSTART;VALUE=DATE:20150115
DTEND;VALUE=DATE:20150116
DTSTAMP:20260423T151607
CREATED:20150113T230352Z
LAST-MODIFIED:20150114T120926Z
UID:736-1421280000-1421366399@rachaellmcintosh.com
SUMMARY:Bubbles Will Pop - Book Release
DESCRIPTION:
URL:https://rachaellmcintosh.com/event/bubbles-will-pop-book-release/
LOCATION:RI
END:VEVENT
BEGIN:VEVENT
DTSTART;TZID=America/New_York:20150110T140000
DTEND;TZID=America/New_York:20150110T160000
DTSTAMP:20260423T151607
CREATED:20141229T165655Z
LAST-MODIFIED:20141229T165655Z
UID:698-1420898400-1420905600@rachaellmcintosh.com
SUMMARY:Davisville Free Library Second Saturday Author Series: Rachael L. McIntosh
DESCRIPTION:Meet Rachel McIntosh\, author of the Little Yellow Stickies\, first in her Security through Absurdity series.  Rachael’s books are inspired by her real life experiences working for a major U.S. defense contractor\, her dealings with national news outlets\, and her involvement in a U.S. Presidential campaign.  Books will be available for purchase and signing.  Free.  No registration necessary.  Refreshments will be served.
URL:https://rachaellmcintosh.com/event/davisville-free-library-second-saturday-author-series-rachael-l-mcintosh/
LOCATION:Davisville Free Library\, 481 Davisville Road\, North Kingstown\, RI\, 02852\, United States
END:VEVENT
BEGIN:VEVENT
DTSTART;TZID=America/New_York:20141206T140000
DTEND;TZID=America/New_York:20141206T160000
DTSTAMP:20260423T151607
CREATED:20141029T134018Z
LAST-MODIFIED:20141029T134018Z
UID:655-1417874400-1417881600@rachaellmcintosh.com
SUMMARY:Local Author Meet & Greet at North Kingstown Public Library
DESCRIPTION:I will be appearing with a wide range of interesting and passionate local writers!  This event will showcase Rhode Island authors who have published a book within the last year. Books will be for sale.  The format for the program will depend on how many authors sign up. \nPlease call event organizer Elizabeth Donovan at 294-3306\, x6102 for more information. \n 
URL:https://rachaellmcintosh.com/event/author-meet-greet-north-kingstown-library/
LOCATION:North Kingstown Public Library\, 100 Boone Street\, North Kingstown\, RI\, 02852
END:VEVENT
BEGIN:VEVENT
DTSTART;TZID=America/New_York:20141108T100000
DTEND;TZID=America/New_York:20141108T150000
DTSTAMP:20260423T151607
CREATED:20140917T130839Z
LAST-MODIFIED:20140930T105322Z
UID:506-1415440800-1415458800@rachaellmcintosh.com
SUMMARY:2014 Rhode Island Author's Expo
DESCRIPTION:Join me — and 80 other Rhode Island authors! — at the second annual Rhode Island Author’s Expo this November.
URL:https://rachaellmcintosh.com/event/2014-rhode-island-authors-expo/
LOCATION:West Warwick Civic Center\, 100 Factory Street\, West Warwick\, RI\, 02893\, United States
END:VEVENT
BEGIN:VEVENT
DTSTART;VALUE=DATE:20141025
DTEND;VALUE=DATE:20141026
DTSTAMP:20260423T151607
CREATED:20140918T192905Z
LAST-MODIFIED:20140919T152517Z
UID:532-1414195200-1414281599@rachaellmcintosh.com
SUMMARY:Boston Book Festival
DESCRIPTION:The Boston Book Festival celebrates the power of words to stimulate\, agitate\, unite\, delight\, and inspire by holding year-round events culminating in an annual\, free Festival that promotes a culture of reading and ideas and enhances the vibrancy of our city.
URL:https://rachaellmcintosh.com/event/boston-book-festival-2014/
LOCATION:Copley Square\, 560 Boylston St\, Boston\, MA\, United States
END:VEVENT
BEGIN:VEVENT
DTSTART;TZID=America/New_York:20141024T180000
DTEND;TZID=America/New_York:20141024T190000
DTSTAMP:20260423T151607
CREATED:20140930T095517Z
LAST-MODIFIED:20141024T082613Z
UID:597-1414173600-1414177200@rachaellmcintosh.com
SUMMARY:Interview with S. Evan Townsend
DESCRIPTION:S. Evan Townsend will be interviewing me on The Speculative Fiction Cantina. \nTownsend has been called ‘America’s Unique Speculative Fiction Voice’. \nIn the literary tradition of Robert Heinlein\, Townsend is a builder of worlds — fantastic yet familiar\, slightly off-kilter worlds\, filled with characters and storylines that breathe new life into the genre that is speculative fiction. \nToday’s reader has many options — fantasy\, fiction\, historical fiction\, urban fantasy — the list is endless. Yet all have one thing in common; they begin in fiction and end in fiction. S. Evan Townsend’s approach is to begin in the real world – everyday reality — and then to twist that reality\, heat it up a bit\, spin it and mold it seamlessly into fiction. The dividing lines between what is real and what is fictional become blurred. If innovative speculative fiction is an art form\, S. Evan Townsend is a master of that art. \nTownsend’s writings are heavily researched to ensure both historic and scientific accuracy. All of his works offer captivating tales of fun adventure\, wrapped tightly around a solid iron core of fact and accuracy.
URL:https://rachaellmcintosh.com/event/interview-s-evan-townsend/
LOCATION:The Speculative Fiction Cantina\, Writestream Radio Network
END:VEVENT
BEGIN:VEVENT
DTSTART;TZID=America/New_York:20140930T163000
DTEND;TZID=America/New_York:20140930T173000
DTSTAMP:20260423T151607
CREATED:20140918T193831Z
LAST-MODIFIED:20140919T153558Z
UID:534-1412094600-1412098200@rachaellmcintosh.com
SUMMARY:Reading\, Q&A and Book Signing
DESCRIPTION:Come to the Brown University bookstore on 30 September to hear me read from Security Through Absurdity. I’ll also be signing books and doing a Q&A session.
URL:https://rachaellmcintosh.com/event/reading-book-signing-brown/
LOCATION:Brown University Bookstore\, 244 Thayer Street\, Providence\, RI\, 02912\, United States
END:VEVENT
BEGIN:VEVENT
DTSTART;TZID=America/New_York:20140919T200000
DTEND;TZID=America/New_York:20140919T203000
DTSTAMP:20260423T151607
CREATED:20140919T150730Z
LAST-MODIFIED:20140919T153445Z
UID:545-1411156800-1411158600@rachaellmcintosh.com
SUMMARY:Interview with Tiffani-Beth Gager
DESCRIPTION:Tiffani-Beth Gager will be interviewing me on the Wicked Edge radio show. \n“The Wicked Edge is a fun and relaxed show. We are family oriented and can be a little crazy at times.” \nTiffani-Beth resides in Upstate NY where she was born and raised and is currently attending SUNY Empire State for her degree in Criminal Psychology. Tiffani-Beth has a long history in the entertainment industry\, she is a singer\, song writer\, and has performed in numerous musicals and plays\, and even sang in stadiums. Tiffani-Beth is the Co-Owner of DTM WICKEDPRODUCTIONS\, LLC and DTM Wicked Radio Network.
URL:https://rachaellmcintosh.com/event/interview-tiffani-beth-gager/
LOCATION:Wicked Edge\, DTM Wicked Radio
END:VEVENT
BEGIN:VEVENT
DTSTART;TZID=America/New_York:20140918T140000
DTEND;TZID=America/New_York:20140918T143000
DTSTAMP:20260423T151607
CREATED:20140919T150019Z
LAST-MODIFIED:20140919T153513Z
UID:543-1411048800-1411050600@rachaellmcintosh.com
SUMMARY:Interview with Warren Markowitz
DESCRIPTION:Warren Markowitz will be interviewing me on The Warren Markowitz Show. \nWarren Markowitz is an attorney\, entrepreneur and political activist. Warren examines the events that effect our lives\, the political landscape and the many concerns we have as families\, citizens and communities. Join him and we can discuss the details of the Political Landscape and explore options that most would not dare.
URL:https://rachaellmcintosh.com/event/interview-warren-markowitz/
LOCATION:The Warren Markowitz Show\, Podomatic
END:VEVENT
END:VCALENDAR